BEGIN:VCALENDAR
VERSION:2.0
PRODID:-//hacksw/handcal//NONSGML v1.0//EN
BEGIN:VEVENT
SUMMARY:Championnat de France des Ecoles de Bridge SEF
UID:419a305a-20b1-42dd-ba60-0d69727196da
DTSTART:20260519T123000Z
DTEND:20260519T163000Z
LOCATION:Localisation   
CATEGORIES:Sportif
STATUS:
DESCRIPTION:<p>Championnat de France des Ecoles de Bridge SEF reserve
 aux joueurs jusqu'a 3K</p>
URL;VALUE=URI:https://bridgeclubnarbonne.club.ffbridge.fr/evenements/2026/05/19/championnat-de-france-des-ecoles-de-bridge-sef-2393092
END:VEVENT
END:VCALENDAR
